BEGIN:VCALENDAR
VERSION:2.0
PRODID:-//Sophicity/Tribune/Lithonia, GA
BEGIN:VEVENT
DTSTAMP:20260423T162748Z
UID:bc90973f-9ce3-420f-8b90-a9282563f984-3950
DTSTART:20220623T110000Z
DTEND:20220623T210000Z
CLASS:PUBLIC
SUMMARY:Lithonia Community Day
END:VEVENT
END:VCALENDAR
