BEGIN:VCALENDAR
VERSION:2.0
PRODID:-//Sophicity/Tribune/Lithonia, GA
BEGIN:VEVENT
DTSTAMP:20260423T162748Z
UID:bc90973f-9ce3-420f-8b90-a9282563f984-3946
DTSTART:20220619T140000Z
DTEND:20220619T210000Z
CLASS:PUBLIC
SUMMARY:Juneteenth '22 Celebration
END:VEVENT
END:VCALENDAR
