BEGIN:VCALENDAR
VERSION:2.0
PRODID:-//Sophicity/Tribune/Lithonia, GA
BEGIN:VEVENT
DTSTAMP:20260423T210850Z
UID:bc90973f-9ce3-420f-8b90-a9282563f984-3934
DTSTART:20220917T213000Z
DTEND:20220917T223000Z
CLASS:PUBLIC
SUMMARY:Groovin on The Green
END:VEVENT
END:VCALENDAR
