BEGIN:VCALENDAR
VERSION:2.0
PRODID:-//Sophicity/Tribune/Lithonia, GA
BEGIN:VEVENT
DTSTAMP:20260423T145355Z
UID:bc90973f-9ce3-420f-8b90-a9282563f984-3932
DTSTART:20220602T210000Z
DTEND:20220603T000000Z
CLASS:PUBLIC
SUMMARY:Grooves and Grape Wine Down
END:VEVENT
END:VCALENDAR
