BEGIN:VCALENDAR
VERSION:2.0
PRODID:-//Sophicity/Tribune/Lithonia, GA
BEGIN:VEVENT
DTSTAMP:20260423T145428Z
UID:bc90973f-9ce3-420f-8b90-a9282563f984-3930
DTSTART:20220529T150000Z
DTEND:20220529T160000Z
CLASS:PUBLIC
SUMMARY:Family Fun Day - Guyana Association
END:VEVENT
END:VCALENDAR
