BEGIN:VCALENDAR
VERSION:2.0
PRODID:-//Sophicity/Tribune/Lithonia, GA
BEGIN:VEVENT
DTSTAMP:20260423T145405Z
UID:bc90973f-9ce3-420f-8b90-a9282563f984-3929
DTSTART:20220527T180000Z
DTEND:20220527T190000Z
CLASS:PUBLIC
SUMMARY:Epic Day Party
END:VEVENT
END:VCALENDAR
