BEGIN:VCALENDAR
VERSION:2.0
PRODID:-//Sophicity/Tribune/Lithonia, GA
BEGIN:VEVENT
DTSTAMP:20260423T150335Z
UID:bc90973f-9ce3-420f-8b90-a9282563f984-3925
DTSTART:20220603T160000Z
DTEND:20220603T180000Z
CLASS:PUBLIC
SUMMARY:Budget Work Session Meeting #1
END:VEVENT
END:VCALENDAR
