BEGIN:VCALENDAR
VERSION:2.0
PRODID:-//Sophicity/Tribune/Lithonia, GA
BEGIN:VEVENT
DTSTAMP:20260423T145428Z
UID:bc90973f-9ce3-420f-8b90-a9282563f984-3924
DTSTART:20220512T213000Z
DTEND:20220512T233000Z
CLASS:PUBLIC
SUMMARY:Public Hearing 
END:VEVENT
END:VCALENDAR
