BEGIN:VCALENDAR
VERSION:2.0
PRODID:-//Sophicity/Tribune/Lithonia, GA
BEGIN:VEVENT
DTSTAMP:20260423T133111Z
UID:bc90973f-9ce3-420f-8b90-a9282563f984-3915
DTSTART:20220430T160000Z
DTEND:20220430T200000Z
LOCATION:Downtown Lithonia on Main Street
CLASS:PUBLIC
SUMMARY:Georgia Cities Week
END:VEVENT
END:VCALENDAR
