BEGIN:VCALENDAR
VERSION:2.0
PRODID:-//Sophicity/Tribune/Lithonia, GA
BEGIN:VEVENT
DTSTAMP:20260423T162713Z
UID:bc90973f-9ce3-420f-8b90-a9282563f984-3904
DTSTART:20220221T223000Z
DTEND:20220221T233000Z
CLASS:PUBLIC
SUMMARY:City Council Work Session Meeting
END:VEVENT
END:VCALENDAR
