BEGIN:VCALENDAR
VERSION:2.0
PRODID:-//Sophicity/Tribune/Lithonia, GA
BEGIN:VEVENT
DTSTAMP:20260423T162748Z
UID:bc90973f-9ce3-420f-8b90-a9282563f984-3903
DTSTART:20220217T180000Z
DTEND:20220217T190000Z
CLASS:PUBLIC
SUMMARY:Special Called Meeting 
END:VEVENT
END:VCALENDAR
