BEGIN:VCALENDAR
VERSION:2.0
PRODID:-//Sophicity/Tribune/Lithonia, GA
BEGIN:VEVENT
DTSTAMP:20260423T162713Z
UID:bc90973f-9ce3-420f-8b90-a9282563f984-3899
DTSTART:20220207T223000Z
DTEND:20220208T003000Z
CLASS:PUBLIC
SUMMARY:City Council Meeting
END:VEVENT
END:VCALENDAR
