BEGIN:VCALENDAR
VERSION:2.0
PRODID:-//Sophicity/Tribune/Lithonia, GA
BEGIN:VEVENT
DTSTAMP:20260423T162713Z
UID:bc90973f-9ce3-420f-8b90-a9282563f984-3898
DTSTART:20220210T200000Z
DTEND:20220210T220000Z
CLASS:PUBLIC
SUMMARY:Public Hearing
END:VEVENT
END:VCALENDAR
