BEGIN:VCALENDAR
VERSION:2.0
PRODID:-//Sophicity/Tribune/Lithonia, GA
BEGIN:VEVENT
DTSTAMP:20260423T175516Z
UID:bc90973f-9ce3-420f-8b90-a9282563f984-3897
DTSTART:20220127T220000Z
DTEND:20220127T230000Z
CLASS:PUBLIC
SUMMARY:Special Called Meeting 
END:VEVENT
END:VCALENDAR
