BEGIN:VCALENDAR
VERSION:2.0
PRODID:-//Sophicity/Tribune/Lithonia, GA
BEGIN:VEVENT
DTSTAMP:20260423T193352Z
UID:bc90973f-9ce3-420f-8b90-a9282563f984-3885
DTSTART:20211216T150000Z
DTEND:20211216T180000Z
CLASS:PUBLIC
SUMMARY:Special Called Meeting 
END:VEVENT
END:VCALENDAR
