BEGIN:VCALENDAR
VERSION:2.0
PRODID:-//Sophicity/Tribune/Lithonia, GA
BEGIN:VEVENT
DTSTAMP:20260423T193417Z
UID:bc90973f-9ce3-420f-8b90-a9282563f984-3884
DTSTART:20211206T223000Z
DTEND:20211207T003000Z
CLASS:PUBLIC
SUMMARY:City Council Work Session Meeting 
END:VEVENT
END:VCALENDAR
