BEGIN:VCALENDAR
VERSION:2.0
PRODID:-//Sophicity/Tribune/Lithonia, GA
BEGIN:VEVENT
DTSTAMP:20260423T223349Z
UID:bc90973f-9ce3-420f-8b90-a9282563f984-3850
DTSTART:20211008T120000Z
DTEND:20211011T210000Z
CLASS:PUBLIC
SUMMARY:Faith and Blue Weekend
END:VEVENT
END:VCALENDAR
