BEGIN:VCALENDAR
VERSION:2.0
PRODID:-//Sophicity/Tribune/Lithonia, GA
BEGIN:VEVENT
DTSTAMP:20260423T193417Z
UID:bc90973f-9ce3-420f-8b90-a9282563f984-3836
DTSTART:20210726T213000Z
DTEND:20210726T223000Z
CLASS:PUBLIC
SUMMARY:Special Called Personnel Meeting
END:VEVENT
END:VCALENDAR
