BEGIN:VCALENDAR
VERSION:2.0
PRODID:-//Sophicity/Tribune/Lithonia, GA
BEGIN:VEVENT
DTSTAMP:20260423T193444Z
UID:bc90973f-9ce3-420f-8b90-a9282563f984-3827
DTSTART:20210724T220000Z
DTEND:20210725T035900Z
LOCATION:Lithonia Amphitheater - 2515 Park Drive, Lithonia, GA
CLASS:PUBLIC
SUMMARY:Groovin on the Green
END:VEVENT
END:VCALENDAR
