BEGIN:VCALENDAR
VERSION:2.0
PRODID:-//Sophicity/Tribune/Lithonia, GA
BEGIN:VEVENT
DTSTAMP:20260423T180016Z
UID:bc90973f-9ce3-420f-8b90-a9282563f984-3825
DTSTART:20211226T214100Z
DTEND:20211226T214100Z
CLASS:PUBLIC
SUMMARY:Kwanzaa begins
END:VEVENT
END:VCALENDAR
