BEGIN:VCALENDAR
VERSION:2.0
PRODID:-//Sophicity/Tribune/Lithonia, GA
BEGIN:VEVENT
DTSTAMP:20260423T193417Z
UID:bc90973f-9ce3-420f-8b90-a9282563f984-3824
DTSTART:20211225T214100Z
DTEND:20211225T214100Z
CLASS:PUBLIC
SUMMARY:Christmas Day
END:VEVENT
END:VCALENDAR
