BEGIN:VCALENDAR
VERSION:2.0
PRODID:-//Sophicity/Tribune/Lithonia, GA
BEGIN:VEVENT
DTSTAMP:20260423T193533Z
UID:bc90973f-9ce3-420f-8b90-a9282563f984-3819
DTSTART:20211204T213200Z
DTEND:20211204T213200Z
CLASS:PUBLIC
SUMMARY:Lithonia Market on Main	
END:VEVENT
END:VCALENDAR
