BEGIN:VCALENDAR
VERSION:2.0
PRODID:-//Sophicity/Tribune/Lithonia, GA
BEGIN:VEVENT
DTSTAMP:20260423T210929Z
UID:bc90973f-9ce3-420f-8b90-a9282563f984-3817
DTSTART:20211125T050100Z
DTEND:20211126T045900Z
CLASS:PUBLIC
SUMMARY:Thanksgiving
END:VEVENT
END:VCALENDAR
