BEGIN:VCALENDAR
VERSION:2.0
PRODID:-//Sophicity/Tribune/Lithonia, GA
BEGIN:VEVENT
DTSTAMP:20260423T210409Z
UID:bc90973f-9ce3-420f-8b90-a9282563f984-3815
DTSTART:20211118T220000Z
DTEND:20211118T230000Z
CLASS:PUBLIC
SUMMARY:Lithonia Roundtable	
END:VEVENT
END:VCALENDAR
