BEGIN:VCALENDAR
VERSION:2.0
PRODID:-//Sophicity/Tribune/Lithonia, GA
BEGIN:VEVENT
DTSTAMP:20260423T210853Z
UID:bc90973f-9ce3-420f-8b90-a9282563f984-3813
DTSTART:20211111T205500Z
DTEND:20211111T205500Z
CLASS:PUBLIC
SUMMARY:Veteran's Day
END:VEVENT
END:VCALENDAR
