BEGIN:VCALENDAR
VERSION:2.0
PRODID:-//Sophicity/Tribune/Lithonia, GA
BEGIN:VEVENT
DTSTAMP:20260423T210930Z
UID:bc90973f-9ce3-420f-8b90-a9282563f984-3810
DTSTART:20211102T040100Z
DTEND:20211103T035900Z
CLASS:PUBLIC
SUMMARY:Election Day
END:VEVENT
END:VCALENDAR
