BEGIN:VCALENDAR
VERSION:2.0
PRODID:-//Sophicity/Tribune/Lithonia, GA
BEGIN:VEVENT
DTSTAMP:20260423T211222Z
UID:bc90973f-9ce3-420f-8b90-a9282563f984-3809
DTSTART:20211031T040100Z
DTEND:20211101T035900Z
CLASS:PUBLIC
SUMMARY:Halloween
END:VEVENT
END:VCALENDAR
