BEGIN:VCALENDAR
VERSION:2.0
PRODID:-//Sophicity/Tribune/Lithonia, GA
BEGIN:VEVENT
DTSTAMP:20260423T223541Z
UID:bc90973f-9ce3-420f-8b90-a9282563f984-3808
DTSTART:20211030T160000Z
DTEND:20211030T200000Z
CLASS:PUBLIC
SUMMARY:Lithonia Market on Main Street	
END:VEVENT
END:VCALENDAR
