BEGIN:VCALENDAR
VERSION:2.0
PRODID:-//Sophicity/Tribune/Lithonia, GA
BEGIN:VEVENT
DTSTAMP:20260423T223531Z
UID:bc90973f-9ce3-420f-8b90-a9282563f984-3807
DTSTART:20211027T230000Z
DTEND:20211028T000000Z
CLASS:PUBLIC
SUMMARY:Annexation Town Hall	
END:VEVENT
END:VCALENDAR
