BEGIN:VCALENDAR
VERSION:2.0
PRODID:-//Sophicity/Tribune/Lithonia, GA
BEGIN:VEVENT
DTSTAMP:20260423T223541Z
UID:bc90973f-9ce3-420f-8b90-a9282563f984-3806
DTSTART:20211024T040100Z
DTEND:20211025T035900Z
CLASS:PUBLIC
SUMMARY:United Nations Day
END:VEVENT
END:VCALENDAR
