BEGIN:VCALENDAR
VERSION:2.0
PRODID:-//Sophicity/Tribune/Lithonia, GA
BEGIN:VEVENT
DTSTAMP:20260423T223415Z
UID:bc90973f-9ce3-420f-8b90-a9282563f984-3802
DTSTART:20211012T182200Z
DTEND:20211012T182200Z
CLASS:PUBLIC
SUMMARY:LDDA Meeting	
END:VEVENT
END:VCALENDAR
