BEGIN:VCALENDAR
VERSION:2.0
PRODID:-//Sophicity/Tribune/Lithonia, GA
BEGIN:VEVENT
DTSTAMP:20260423T223314Z
UID:bc90973f-9ce3-420f-8b90-a9282563f984-3797
DTSTART:20211003T040100Z
DTEND:20211010T035900Z
CLASS:PUBLIC
SUMMARY:Cities Week	
END:VEVENT
END:VCALENDAR
