BEGIN:VCALENDAR
VERSION:2.0
PRODID:-//Sophicity/Tribune/Lithonia, GA
BEGIN:VEVENT
DTSTAMP:20260423T223329Z
UID:bc90973f-9ce3-420f-8b90-a9282563f984-3790
DTSTART:20210919T040100Z
DTEND:20210920T035900Z
CLASS:PUBLIC
SUMMARY:Park Reservation Legends In Concert		
END:VEVENT
END:VCALENDAR
