BEGIN:VCALENDAR
VERSION:2.0
PRODID:-//Sophicity/Tribune/Lithonia, GA
BEGIN:VEVENT
DTSTAMP:20260423T223314Z
UID:bc90973f-9ce3-420f-8b90-a9282563f984-3789
DTSTART:20210916T210000Z
DTEND:20210916T220000Z
CLASS:PUBLIC
SUMMARY:Lithonia Roundtable	
END:VEVENT
END:VCALENDAR
