BEGIN:VCALENDAR
VERSION:2.0
PRODID:-//Sophicity/Tribune/Lithonia, GA
BEGIN:VEVENT
DTSTAMP:20260423T224251Z
UID:bc90973f-9ce3-420f-8b90-a9282563f984-3788
DTSTART:20210914T151200Z
DTEND:20210914T151200Z
CLASS:PUBLIC
SUMMARY:LDDA Meeting	
END:VEVENT
END:VCALENDAR
