BEGIN:VCALENDAR
VERSION:2.0
PRODID:-//Sophicity/Tribune/Lithonia, GA
BEGIN:VEVENT
DTSTAMP:20260423T210040Z
UID:bc90973f-9ce3-420f-8b90-a9282563f984-3786
DTSTART:20210911T160000Z
DTEND:20210911T200000Z
CLASS:PUBLIC
SUMMARY:Lithonia Market on Main	 Celebrating Grandparents Market	
END:VEVENT
END:VCALENDAR
