BEGIN:VCALENDAR
VERSION:2.0
PRODID:-//Sophicity/Tribune/Lithonia, GA
BEGIN:VEVENT
DTSTAMP:20260423T210054Z
UID:bc90973f-9ce3-420f-8b90-a9282563f984-3784
DTSTART:20210907T040100Z
DTEND:20210907T165900Z
CLASS:PUBLIC
SUMMARY:Rosh Hashanah
END:VEVENT
END:VCALENDAR
