BEGIN:VCALENDAR
VERSION:2.0
PRODID:-//Sophicity/Tribune/Lithonia, GA
BEGIN:VEVENT
DTSTAMP:20260423T210227Z
UID:bc90973f-9ce3-420f-8b90-a9282563f984-3783
DTSTART:20210906T040100Z
DTEND:20210907T035900Z
CLASS:PUBLIC
SUMMARY:Labor Day
END:VEVENT
END:VCALENDAR
