BEGIN:VCALENDAR
VERSION:2.0
PRODID:-//Sophicity/Tribune/Lithonia, GA
BEGIN:VEVENT
DTSTAMP:20260423T211010Z
UID:bc90973f-9ce3-420f-8b90-a9282563f984-3782
DTSTART:20210904T160000Z
DTEND:20210904T200000Z
CLASS:PUBLIC
SUMMARY:Lithonia Market on Main	 Celebrating Labor Day/Workers Market	
END:VEVENT
END:VCALENDAR
