BEGIN:VCALENDAR
VERSION:2.0
PRODID:-//Sophicity/Tribune/Lithonia, GA
BEGIN:VEVENT
DTSTAMP:20260423T210640Z
UID:bc90973f-9ce3-420f-8b90-a9282563f984-3779
DTSTART:20210819T210000Z
DTEND:20210819T220000Z
CLASS:PUBLIC
SUMMARY:Aviation Day
END:VEVENT
END:VCALENDAR
