BEGIN:VCALENDAR
VERSION:2.0
PRODID:-//Sophicity/Tribune/Lithonia, GA
BEGIN:VEVENT
DTSTAMP:20260423T210849Z
UID:bc90973f-9ce3-420f-8b90-a9282563f984-3778
DTSTART:20210814T160000Z
DTEND:20210814T200000Z
CLASS:PUBLIC
SUMMARY:Lithonia Market on Main Street	Senior Citizen Market
END:VEVENT
END:VCALENDAR
