BEGIN:VCALENDAR
VERSION:2.0
PRODID:-//Sophicity/Tribune/Lithonia, GA
BEGIN:VEVENT
DTSTAMP:20260423T193355Z
UID:bc90973f-9ce3-420f-8b90-a9282563f984-3776
DTSTART:20210725T040100Z
DTEND:20210725T160000Z
CLASS:PUBLIC
SUMMARY:Parents Day
END:VEVENT
END:VCALENDAR
