BEGIN:VCALENDAR
VERSION:2.0
PRODID:-//Sophicity/Tribune/Lithonia, GA
BEGIN:VEVENT
DTSTAMP:20260423T193352Z
UID:bc90973f-9ce3-420f-8b90-a9282563f984-3769
DTSTART:20210728T230000Z
DTEND:20210729T000000Z
CLASS:PUBLIC
SUMMARY:Annexation Town Hall	
END:VEVENT
END:VCALENDAR
