BEGIN:VCALENDAR
VERSION:2.0
PRODID:-//Sophicity/Tribune/Lithonia, GA
BEGIN:VEVENT
DTSTAMP:20260423T175821Z
UID:bc90973f-9ce3-420f-8b90-a9282563f984-3752
DTSTART:20210620T040100Z
DTEND:20210620T160000Z
CLASS:PUBLIC
SUMMARY:Fathers Day
END:VEVENT
END:VCALENDAR
