BEGIN:VCALENDAR
VERSION:2.0
PRODID:-//Sophicity/Tribune/Lithonia, GA
BEGIN:VEVENT
DTSTAMP:20260423T180016Z
UID:bc90973f-9ce3-420f-8b90-a9282563f984-3751
DTSTART:20210619T160000Z
DTEND:20210619T200000Z
LOCATION:Main Street
CLASS:PUBLIC
SUMMARY:Lithonia Market on Main Street	
END:VEVENT
END:VCALENDAR
