BEGIN:VCALENDAR
VERSION:2.0
PRODID:-//Sophicity/Tribune/Lithonia, GA
BEGIN:VEVENT
DTSTAMP:20260423T175922Z
UID:bc90973f-9ce3-420f-8b90-a9282563f984-3750
DTSTART:20210617T210000Z
DTEND:20210617T220000Z
LOCATION:Zoom Meeting
CLASS:PUBLIC
SUMMARY:Lithonia Roundtable	
END:VEVENT
END:VCALENDAR
