BEGIN:VCALENDAR
VERSION:2.0
PRODID:-//Sophicity/Tribune/Lithonia, GA
BEGIN:VEVENT
DTSTAMP:20260423T180003Z
UID:bc90973f-9ce3-420f-8b90-a9282563f984-3748
DTSTART:20210614T040000Z
DTEND:20210614T160000Z
CLASS:PUBLIC
SUMMARY:Flag Day
END:VEVENT
END:VCALENDAR
