BEGIN:VCALENDAR
VERSION:2.0
PRODID:-//Sophicity/Tribune/Lithonia, GA
BEGIN:VEVENT
DTSTAMP:20260423T180003Z
UID:bc90973f-9ce3-420f-8b90-a9282563f984-3746
DTSTART:20210612T160000Z
DTEND:20210612T200000Z
LOCATION:Main Street
CLASS:PUBLIC
SUMMARY:Lithonia Marke on Main st celebrating lithonias buss
END:VEVENT
END:VCALENDAR
