BEGIN:VCALENDAR
VERSION:2.0
PRODID:-//Sophicity/Tribune/Lithonia, GA
BEGIN:VEVENT
DTSTAMP:20260423T223349Z
UID:bc90973f-9ce3-420f-8b90-a9282563f984-3743
DTSTART:20211008T140000Z
DTEND:20211010T020000Z
LOCATION:LITHONIA AMPHITHEATER
CLASS:PUBLIC
SUMMARY:Black Theater Festival
END:VEVENT
END:VCALENDAR
