BEGIN:VCALENDAR
VERSION:2.0
PRODID:-//Sophicity/Tribune/Lithonia, GA
BEGIN:VEVENT
DTSTAMP:20260423T210552Z
UID:bc90973f-9ce3-420f-8b90-a9282563f984-3741
DTSTART:20210904T180000Z
DTEND:20210905T020000Z
LOCATION:LITHONIA AMPHITHEATER
CLASS:PUBLIC
SUMMARY:Old School Jams
END:VEVENT
END:VCALENDAR
